BEGIN:VCALENDAR
VERSION:2.0
PRODID:-//Myrtaly Congress - ECPv6.15.5//NONSGML v1.0//EN
CALSCALE:GREGORIAN
METHOD:PUBLISH
X-WR-CALNAME:Myrtaly Congress
X-ORIGINAL-URL:https://myrtalycongress.gr/en
X-WR-CALDESC:Events for Myrtaly Congress
REFRESH-INTERVAL;VALUE=DURATION:PT1H
X-Robots-Tag:noindex
X-PUBLISHED-TTL:PT1H
BEGIN:VTIMEZONE
TZID:UTC
BEGIN:STANDARD
TZOFFSETFROM:+0000
TZOFFSETTO:+0000
TZNAME:UTC
DTSTART:20200101T000000
END:STANDARD
END:VTIMEZONE
BEGIN:VEVENT
DTSTART;VALUE=DATE:20201113
DTEND;VALUE=DATE:20201116
DTSTAMP:20260423T125749
CREATED:20191212T120846Z
LAST-MODIFIED:20240227T072533Z
UID:79445-1605225600-1605484799@myrtalycongress.gr
SUMMARY:14ο Πανελλήνιο Συνέδριο Επιληψίας Web Scientific Event
DESCRIPTION:Το 14ο Πανελλήνιο Συνέδριο Επιληψίας αλλάζει μορφή και θα πραγματοποιηθεί ως Web Scientific Event σε covid free περιβάλλον! \nPARTICIPATION KIT\nΕπιστημονικό Πρόγραμμα  /Scientific Programme Web Application Programme Έντυπο εγγραφών Δορυφορικά Συμπόσια & Διαλέξεις Οδηγίες Σύνδεσης & Παρακολούθησης Βιβλίο Περιλήψεων Μοριοδότηση: Χορηγούνται 22 Μόρια Συνεχιζόμενης Ιατρικής Εκπαίδευσης (CME- CPD credits) από τον Πανελλήνιο Ιατρικό Σύλλογο. \nSPONSORSHIP KIT\nΈγκριση ΕΟΦ  Αξιολόγηση ΣΦΕΕ Έντυπο εγγραφών \nPRESS & SOCIAL MEDIA KIT\nΕπιστολή Δελτίο Τύπου Poster Facebook page Facebook event  Twitter profile  Instagram profile  \nSPONSORS\n                          
URL:https://myrtalycongress.gr/en/event/14o-%cf%80%ce%b1%ce%bd%ce%b5%ce%bb%ce%bb%ce%ae%ce%bd%ce%b9%ce%bf-%cf%83%cf%85%ce%bd%ce%ad%ce%b4%cf%81%ce%b9%ce%bf-%ce%b5%cf%80%ce%b9%ce%bb%ce%b7%cf%88%ce%af%ce%b1%cf%82/
LOCATION:Online
CATEGORIES:Past Events
ATTACH;FMTTYPE=image/png:https://myrtalycongress.gr/wp-content/uploads/2019/12/Poster-1.png
END:VEVENT
END:VCALENDAR